BEGIN:VCALENDAR
VERSION:2.0
PRODID:-// manufacturingconsortium Events Calendar //manufacturing-consort
 ium.org//
CALSCALE:GREGORIAN
X-WR-CALNAME:4. Netzwerktreffen INNOVATIONSDRUCK
X-WR-TIMEZONE:Europe/Berlin
BEGIN:VEVENT
SUMMARY:4. Netzwerktreffen INNOVATIONSDRUCK
DTSTART:20260604T130000Z
DTEND:20260604T160000Z
DTSTAMP:20260604T130000Z
UID:manufacturingconsortium.54.events.19b87958-400b-11f1-ade9-0a45b4eb50b7
DESCRIPTION:chesco ForschungsfabrikWerner-von-Siemens-Stra&szlig\;e 7\, 03
 052 Cottbus-Dissenchen
LOCATION:Center for Hybrid Electric Systems Cottbus (chesco)\, Werner-von-
 Siemens-Straße 7\, 03052 \, Cottbus\, Deutschland
ORGANIZER:
END:VEVENT
END:VCALENDAR
